Workbook

Sheet （様式１）わたしはこうして生きてきました
A1: 様式１ | B1: 金山 時生さん 「わたしはこうして生きてきました」
B2: =IF(OR(G2="",G3="",G4=""),"※受講者について情報が未記入です⇒","") -> ※受講者について情報が未記入です⇒ | E2: =IF(G2="","入力してください→","") -> 入力してください→ | F2: 受講者番号
B3: =IF(AND(B9="",C9="",D9="",B10="",C10="",D10="",B11="",C11="",D11="",B12="",C12="",D12="",B13="",C13="",D13="",B14="",C14="",D14="",B15="",C15="",D15="",B16="",C16="",D16="",B17="",C17="",D17="",B18="",C18="",D18="",B19="",C19="",D19="",B20="",C20="",D20="",B21="",C21="",D21="",B22="",C22="",D22="",B23="",C23="",D23="",B24="",C24="",D24="",B25="",C25="",D25="",B26="",C26="",D26="",B27="",C27="",D27="",B28="",C28="",D28="",B29="",C29="",D29="",B30="",C30="",D30="",B31="",C31="",D31="",B32="",C32="",D32="",B33="",C33="",D33=""),"※様式が未記入です","") -> ※様式が未記入です | E3: =IF(G3="","入力してください→","") -> 入力してください→ | F3: 受講者 所属事業所名
E4: =IF(G4="","入力してください→","") -> 入力してください→ | F4: 受講者 氏名
B6: 本人の生活の全体像および支援の経過をつかむためのツールです。事例を読み、各年代の出来事を整理して下さい。
B7: 年月日 | C7: 年齢 | D7: できごと
B8: 34315 | C8: 0歳 | D8: 出生

Sheet (様式２-1)本人を知るための地図 
A1: 様式２-１ | B1: 本人を知るための地図 １ | F1: ↓様式1に入力すると自動入力されます
B2: =IF(OR(B8="",D8="",B11="",D11="",B15="",D15=""),"※入力していない項目があります","") -> ※入力していない項目があります | E2: 受講者番号 | F2: ='（様式１）わたしはこうして生きてきました'!$G$2 -> 0
E3: 受講者 所属事業所名 | F3: ='（様式１）わたしはこうして生きてきました'!$G$3 -> 0
E4: 受講者 氏名 | F4: ='（様式１）わたしはこうして生きてきました'!$G$4 -> 0
B5: ※事例「金山 時生さん」を読み、全ての欄に重要と思われる情報を記入してください。
A6: （１）現在状況の整理（アセスメント情報を整理）
B7: ①私は、今までこんな生活をしてきました。 | D7: ③私の不安や気にしていることは？
A8: =IF(B8="","入力してください→","") -> 入力してください→ | C8: =IF(D8="","入力してください→","") -> 入力してください→
B10: ②私は今このような環境で生活をしてます。 | D10: ④私が持っている力、得意なこと
A11: =IF(B11="","入力してください→","") -> 入力してください→ | C11: =IF(D11="","入力してください→","") -> 入力してください→
A13: （２）私の「こうなりたい」という思い・願い | D13: （３）将来の暮らしに向けた支援
B14: ⑤私は、○○で暮らしたいです。私の今の願い、希望は○○です。今、私は○○をやりたいです。 | D14: ⑥私の将来の夢、希望は○○です。 私は○年後こんな暮らしをしたいです。
A15: =IF(B15="","入力してください→","") -> 入力してください→ | C15: =IF(D15="","入力してください→","") -> 入力してください→

Sheet （様式２-２） イメージ図
A1: 様式２-２ | B1: 本人を知るための地図 ２ | D1: ↓様式1に入力すると自動入力されます
B2: 下枠内に、時生さんを具体的にイメージできるように人物像を描いてください。 | C2: 受講者番号 | D2: ='（様式１）わたしはこうして生きてきました'!$G$2 -> 0
B3: （手書きで描いたイラストをスキャンしたものや、データを挿入する） | C3: 受講者 所属事業所名 | D3: ='（様式１）わたしはこうして生きてきました'!$G$3 -> 0
B4: ※挿入方法：タブ「挿入」→「画像」を選択して、下枠に挿入 | C4: 受講者 氏名 | D4: ='（様式１）わたしはこうして生きてきました'!$G$4 -> 0

Sheet (様式３)ニーズ整理表
A1: 様式３ | D1: ニーズ整理表 | K1: ↓様式1に入力すると自動入力されます
B2: =IF(E6="","※100文字要約が未記入です","") -> ※100文字要約が未記入です | J2: 受講者番号 | K2: ='（様式１）わたしはこうして生きてきました'!$G$2 -> 0
B3: =IF(AND(A11="",B11="",E11="",H11="",J11="",K11="",A12="",B12="",E12="",H12="",J12="",K12="",A13="",B13="",E13="",H13="",J13="",K13="",A14="",B14="",E14="",H14="",J14="",K14=""),"※ニーズ整理表が未記入です","") -> ※ニーズ整理表が未記入です | J3: 受講者 所属事業所名 | K3: ='（様式１）わたしはこうして生きてきました'!$G$3 -> 0
A4: =IF(D4="","入力してください→","") -> 入力してください→ | C4: 利用者名 | G4: 様 | J4: 受講者 氏名 | K4: ='（様式１）わたしはこうして生きてきました'!$G$4 -> 0
A6: =IF(E6="","入力してください→","") -> 入力してください→ | B6: 100文字要約 （記入例を参照し記載願います）
A8: No. | B8: 本人の「こうなりたい」という 思い・願い | E8: 利用者の状況・環境の状況 | H8: 支援者の気になること・推測できること （事例の強み・可能性） | K8: 解決すべき課題
H9: 支援者の気になること | J9: 強みを生かした可能性
A10: 記入例 （事例とは関係ありません） | B10: 一人でバスに乗って映画を見に行きたい。 | E10: 一人でバスに乗ったことがない。 | H10: 想定外の事態に遭遇した時にパニックになると、失敗体験につながる。 | J10: 同じ事業所に通う利用者と一緒だと安心してチャレンジができる可能性がある。 | K10: 生活の楽しみを見つける。 支援者や仲間と一緒に実際にバスに乗る体験を何度か行い自信をつける。

Sheet (様式4)個別支援計画
A1: 様式４ | D1: 個別支援計画 | J1: ↓様式1に入力すると自動入力されます
B2: =IF(AND(A14="",E14="",F14="",G14="",I14="",J14="",K14="",A15="",E15="",F15="",G15="",I15="",J15="",K15="",A16="",E16="",F16="",G16="",I16="",J16="",K16="",A17="",E17="",F17="",G17="",I17="",J17="",K17=""),"※個別支援計画を作成してください","") -> ※個別支援計画を作成してください | I2: 受講者番号 | J2: ='（様式１）わたしはこうして生きてきました'!$G$2 -> 0
I3: 受講者 所属事業所名 | J3: ='（様式１）わたしはこうして生きてきました'!$G$3 -> 0
A4: =IF(D4="","入力してください→","") -> 入力してください→ | C4: 利用者名 | F4: 様 | I4: 受講者 氏名 | J4: ='（様式１）わたしはこうして生きてきました'!$G$4 -> 0
A6: =IF(D6="","入力してください→","") -> 入力してください→ | B6: 利用者及びその家族の生活 に対する意向（希望する生活）
A7: =IF(D7="","入力してください→","") -> 入力してください→ | B7: 総合的な支援の方針
A9: =IF(D9="","入力してください→","") -> 入力してください→ | B9: 長期目標（内容・期間等）
A10: =IF(D10="","入力してください→","") -> 入力してください→ | B10: 短期目標（内容・期間等）
D11: ↑長期目標・短期目標それぞれ、期間も記載してください
A12: ○支援計画内容
A13: 本人の願い・希望 | E13: 支援目標 | F13: 本人の役割 | G13: 支援内容 （内容・留意点等） | I13: 支援期間 （頻度・時間・期間等） | J13: サービス提供機関 （提供者・担当者等） | K13: 優先順位
A18: 令和 年 月 日 | E18: 利用者氏名 | H18: 印 | I18: サービス管理責任者 | K18: 印

Sheet (様式5-1)社会資源ﾏｯﾌﾟその1
A1: 様式5-1 | B1: 社会資源マップ その１ | G1: ↓様式1に入力すると自動入力されます
F2: 受講者番号 | G2: ='（様式１）わたしはこうして生きてきました'!$G$2 -> 0
A3: 御自身が所属する事業所と関わりのある地域の社会資源をできるだけ多く記入してください(最低５項目以上）。 ※事業所が所在する市町村及び近隣の市町村の資源について記入してください。 ※A4用紙1枚以内で記入してください。 | F3: 受講者 所属事業所名 | G3: ='（様式１）わたしはこうして生きてきました'!$G$3 -> 0
F4: 受講者 氏名 | G4: ='（様式１）わたしはこうして生きてきました'!$G$4 -> 0
A7: 日中活動
A8: 居住の場
A9: 働く
A10: 居宅介護
A11: 相談支援
A12: 医療機関
A13: インフォーマルな資源
A14: その他

Sheet (様式5-2)社会資源ﾏｯﾌﾟその2
A1: 様式5-2 | B1: 社会資源マップ その２ | F1: ↓様式1に入力すると自動入力されます
B2: =IF(OR(B7="",B9="",B12="",C12=""),"入力していない項目があります","") -> 入力していない項目があります | E2: 受講者番号 | F2: ='（様式１）わたしはこうして生きてきました'!$G$2 -> 0
A3: ※様式5-1「社会資源マップその１」から感じたことをお答えください。地域の社会資源は充足していますか？不足していますか？思いつかない場合は、事業所のサービス管理責任者等に相談して記入してください。 | E3: 受講者 所属事業所名 | F3: ='（様式１）わたしはこうして生きてきました'!$G$3 -> 0
E4: 受講者 氏名 | F4: ='（様式１）わたしはこうして生きてきました'!$G$4 -> 0
B6: 社会資源マップから感じたことは何ですか？
A7: =IF(B7="","御自身が感じたことを入力してください→","") -> 御自身が感じたことを入力してください→
B8: 御自身の所属する事業所がある地域の社会資源は充足していますか？不足していますか？
A9: =IF(B9="","プルダウンメニューから選択してください→","") -> プルダウンメニューから選択してください→ | C9: ←プルタブから選択してください
B10: ①充足していると感じる場合 なぜ充足していると感じるのですか？ 下記「足りないと思う社会資源」欄は「なし」と記入し、理由を教えてください。 ②不足していると感じる場合 どんな社会資源が不足していますか？ 下記「足りないと思う社会資源」欄にその社会資源を記入し理由を教えてください。 | I10: 足りている
B11: 足りないと思う社会資源 | C11: その理由 | I11: 足りていない
A12: =IF(B12="","不足している社会資源の有無とそう考える理由を教えてください→","") -> 不足している社会資源の有無とそう考える理由を教えてください→
